

BEGIN:VCALENDAR
VERSION:2.0
PRODID:-//TYPO3/NONSGML TBS Event//EN
CALSCALE:GREGORIAN
METHOD:PUBLISH
BEGIN:VTIMEZONE
TZID:Europe/Berlin
BEGIN:DAYLIGHT
TZOFFSETFROM:+0100
TZOFFSETTO:+0200
TZNAME:CEST
DTSTART:19700329T020000
RRULE:FREQ=YEARLY;BYMONTH=3;BYDAY=-1SU
END:DAYLIGHT
BEGIN:STANDARD
TZOFFSETFROM:+0200
TZOFFSETTO:+0100
TZNAME:CET
DTSTART:19701025T030000
RRULE:FREQ=YEARLY;BYMONTH=10;BYDAY=-1SU
END:STANDARD
END:VTIMEZONE
BEGIN:VEVENT
UID:event-467@www.dgb.de
SUMMARY:Bürgergeld: Neue Perspektiven schaffen durch gute Förderangebote
DESCRIPTION:Was hilft wirklich, um die Chancen auf einen neuen Arbeitsplatz zu erhöhen? Wurde mit dem Bürgergeld tatsächlich das Nachholen von Berufsabschlüssen besser gefördert? Welche Änderungen sind von der neuen Bundesregierung geplant? Wir diskutieren darüber u.a. mit Joachim Wolff (IAB), Hülya Düber (MdB CDU/CSU), Alexander Fischer (DGB), einem Aufstocker und einer Jobcentermitarbeiterin.
LOCATION:Digital via Zoom
URL:https://www.dgb.de/veranstaltungen/veranstaltung/buergergeld-neue-perspektiven-schaffen-durch-gute-foerderangebote/
DTSTART;TZID=Europe/Berlin:20251022T140000
DTEND;TZID=Europe/Berlin:20251022T154000
DTSTAMP:20250908T092553Z
END:VEVENT
END:VCALENDAR
